BEGIN:VCALENDAR
VERSION:2.0
PRODID:-//hacksw/handcal//NONSGML v1.0//EN
CALSCALE:GREGORIAN
BEGIN:VEVENT
DTEND:20070526T230000Z
UID:69e63b4c8b06d
DTSTAMP:20260420T154220Z
LOCATION:0 
DESCRIPTION:
URL;VALUE=URI:
SUMMARY:24. Int. Sollingwandertag 
DTSTART:20070526T230000Z
END:VEVENT
END:VCALENDAR
An internal server error occurred.