BEGIN:VCALENDAR
VERSION:2.0
PRODID:-//hacksw/handcal//NONSGML v1.0//EN
CALSCALE:GREGORIAN
BEGIN:VEVENT
DTEND:20070526T230000Z
UID:69e9892252d3c
DTSTAMP:20260423T035114Z
LOCATION:0 
DESCRIPTION:
URL;VALUE=URI:
SUMMARY:22. Bechtheimer Teutonenlauf - Gebück-Lauf
DTSTART:20070526T230000Z
END:VEVENT
END:VCALENDAR
An internal server error occurred.