BEGIN:VCALENDAR
VERSION:2.0
PRODID:-//hacksw/handcal//NONSGML v1.0//EN
CALSCALE:GREGORIAN
BEGIN:VEVENT
DTEND:20070526T230000Z
UID:69e7701a12691
DTSTAMP:20260421T133954Z
LOCATION:0 
DESCRIPTION:
URL;VALUE=URI:
SUMMARY:21. Briloner Pfingstwaldlauf
DTSTART:20070526T230000Z
END:VEVENT
END:VCALENDAR
An internal server error occurred.