BEGIN:VCALENDAR
VERSION:2.0
PRODID:-//hacksw/handcal//NONSGML v1.0//EN
CALSCALE:GREGORIAN
BEGIN:VEVENT
DTEND:20070526T230000Z
UID:69e65fc5585f2
DTSTAMP:20260420T181757Z
LOCATION:0 
DESCRIPTION:
URL;VALUE=URI:
SUMMARY:Pfingstlauf
DTSTART:20070526T230000Z
END:VEVENT
END:VCALENDAR
An internal server error occurred.