BEGIN:VCALENDAR
VERSION:2.0
PRODID:-//hacksw/handcal//NONSGML v1.0//EN
CALSCALE:GREGORIAN
BEGIN:VEVENT
DTEND:20070525T230000Z
UID:69e5e223cfa59
DTSTAMP:20260420T092155Z
LOCATION:0 
DESCRIPTION:
URL;VALUE=URI:
SUMMARY:29. Mützenicher Vennlauf
DTSTART:20070525T230000Z
END:VEVENT
END:VCALENDAR
An internal server error occurred.