BEGIN:VCALENDAR
VERSION:2.0
PRODID:-//hacksw/handcal//NONSGML v1.0//EN
CALSCALE:GREGORIAN
BEGIN:VEVENT
DTEND:20070525T230000Z
UID:69e859dc68581
DTSTAMP:20260422T061716Z
LOCATION:0 
DESCRIPTION:
URL;VALUE=URI:
SUMMARY:Landkreislauf Schwandorf 2007
DTSTART:20070525T230000Z
END:VEVENT
END:VCALENDAR
An internal server error occurred.