BEGIN:VCALENDAR
VERSION:2.0
PRODID:-//hacksw/handcal//NONSGML v1.0//EN
CALSCALE:GREGORIAN
BEGIN:VEVENT
DTEND:20070525T230000Z
UID:69e720fc37251
DTSTAMP:20260421T080220Z
LOCATION:0 
DESCRIPTION:
URL;VALUE=URI:
SUMMARY:11. Aurauer Klosterweg-Lauf
DTSTART:20070525T230000Z
END:VEVENT
END:VCALENDAR
An internal server error occurred.