BEGIN:VCALENDAR
VERSION:2.0
PRODID:-//hacksw/handcal//NONSGML v1.0//EN
CALSCALE:GREGORIAN
BEGIN:VEVENT
DTEND:20070525T230000Z
UID:69e611ea207cf
DTSTAMP:20260420T124546Z
LOCATION:0 
DESCRIPTION:
URL;VALUE=URI:
SUMMARY:23. Thumer Pfingstlauf
DTSTART:20070525T230000Z
END:VEVENT
END:VCALENDAR
An internal server error occurred.