BEGIN:VCALENDAR
VERSION:2.0
PRODID:-//hacksw/handcal//NONSGML v1.0//EN
CALSCALE:GREGORIAN
BEGIN:VEVENT
DTEND:20070524T230000Z
UID:69e5bb26bac51
DTSTAMP:20260420T063534Z
LOCATION:0 
DESCRIPTION:
URL;VALUE=URI:
SUMMARY:12. Kurt-Roth-Gedächtnislauf
DTSTART:20070524T230000Z
END:VEVENT
END:VCALENDAR
An internal server error occurred.