BEGIN:VCALENDAR
VERSION:2.0
PRODID:-//hacksw/handcal//NONSGML v1.0//EN
CALSCALE:GREGORIAN
BEGIN:VEVENT
DTEND:20070524T230000Z
UID:69e9adf0748ae
DTSTAMP:20260423T062816Z
LOCATION:0 
DESCRIPTION:
URL;VALUE=URI:
SUMMARY:14. Rheinauen Volkslauf 
DTSTART:20070524T230000Z
END:VEVENT
END:VCALENDAR
An internal server error occurred.