BEGIN:VCALENDAR
VERSION:2.0
PRODID:-//hacksw/handcal//NONSGML v1.0//EN
CALSCALE:GREGORIAN
BEGIN:VEVENT
DTEND:20070522T230000Z
UID:69e566f0764ad
DTSTAMP:20260420T003616Z
LOCATION:0 
DESCRIPTION:
URL;VALUE=URI:
SUMMARY:1. Altburger Drachenlauf
DTSTART:20070522T230000Z
END:VEVENT
END:VCALENDAR
An internal server error occurred.