BEGIN:VCALENDAR
VERSION:2.0
PRODID:-//hacksw/handcal//NONSGML v1.0//EN
CALSCALE:GREGORIAN
BEGIN:VEVENT
DTEND:20070519T230000Z
UID:69e8121764de1
DTSTAMP:20260422T011103Z
LOCATION:0 
DESCRIPTION:
URL;VALUE=URI:
SUMMARY:14. Melpomene 10 km-Straßenlauf
DTSTART:20070519T230000Z
END:VEVENT
END:VCALENDAR
An internal server error occurred.