BEGIN:VCALENDAR
VERSION:2.0
PRODID:-//hacksw/handcal//NONSGML v1.0//EN
CALSCALE:GREGORIAN
BEGIN:VEVENT
DTEND:20070519T230000Z
UID:69e5f1a38922c
DTSTAMP:20260420T102803Z
LOCATION:0 
DESCRIPTION:
URL;VALUE=URI:
SUMMARY:6. Atatürk-Multi-Kulti-Lauf
DTSTART:20070519T230000Z
END:VEVENT
END:VCALENDAR
An internal server error occurred.