BEGIN:VCALENDAR
VERSION:2.0
PRODID:-//hacksw/handcal//NONSGML v1.0//EN
CALSCALE:GREGORIAN
BEGIN:VEVENT
DTEND:20070519T230000Z
UID:69eca7bceec59
DTSTAMP:20260425T123836Z
LOCATION:0 
DESCRIPTION:
URL;VALUE=URI:
SUMMARY:Regensburg Marathon (Senioren Europameisterschaft im HM)
DTSTART:20070519T230000Z
END:VEVENT
END:VCALENDAR
An internal server error occurred.