BEGIN:VCALENDAR
VERSION:2.0
PRODID:-//hacksw/handcal//NONSGML v1.0//EN
CALSCALE:GREGORIAN
BEGIN:VEVENT
DTEND:20070519T230000Z
UID:69e59fa02c77a
DTSTAMP:20260420T043808Z
LOCATION:0 
DESCRIPTION:
URL;VALUE=URI:
SUMMARY:4. Lauf um den Petersberg
DTSTART:20070519T230000Z
END:VEVENT
END:VCALENDAR
An internal server error occurred.