BEGIN:VCALENDAR
VERSION:2.0
PRODID:-//hacksw/handcal//NONSGML v1.0//EN
CALSCALE:GREGORIAN
BEGIN:VEVENT
DTEND:20070519T230000Z
UID:69e9879de6687
DTSTAMP:20260423T034445Z
LOCATION:0 
DESCRIPTION:
URL;VALUE=URI:
SUMMARY:22. Straßenlauf durch Frohnau
DTSTART:20070519T230000Z
END:VEVENT
END:VCALENDAR
An internal server error occurred.