BEGIN:VCALENDAR
VERSION:2.0
PRODID:-//hacksw/handcal//NONSGML v1.0//EN
CALSCALE:GREGORIAN
BEGIN:VEVENT
DTEND:20070519T230000Z
UID:69ebe86c3f28e
DTSTAMP:20260424T230220Z
LOCATION:0 
DESCRIPTION:
URL;VALUE=URI:
SUMMARY:25. Volkslauf- u. Wandertag  Rund um den Aussichtsturm
DTSTART:20070519T230000Z
END:VEVENT
END:VCALENDAR
An internal server error occurred.