BEGIN:VCALENDAR
VERSION:2.0
PRODID:-//hacksw/handcal//NONSGML v1.0//EN
CALSCALE:GREGORIAN
BEGIN:VEVENT
DTEND:20070519T230000Z
UID:69e60dd2c9d85
DTSTAMP:20260420T122818Z
LOCATION:0 
DESCRIPTION:
URL;VALUE=URI:
SUMMARY:Windhagener Marathon
DTSTART:20070519T230000Z
END:VEVENT
END:VCALENDAR
An internal server error occurred.