BEGIN:VCALENDAR
VERSION:2.0
PRODID:-//hacksw/handcal//NONSGML v1.0//EN
CALSCALE:GREGORIAN
BEGIN:VEVENT
DTEND:20070518T230000Z
UID:69ecf4299912e
DTSTAMP:20260425T180441Z
LOCATION:0 
DESCRIPTION:
URL;VALUE=URI:
SUMMARY:Int. Kämpfelbachlauf 10km- Jugend u. Schülerläufe 400m- 1000m- Start 16:05
DTSTART:20070518T230000Z
END:VEVENT
END:VCALENDAR
An internal server error occurred.