BEGIN:VCALENDAR
VERSION:2.0
PRODID:-//hacksw/handcal//NONSGML v1.0//EN
CALSCALE:GREGORIAN
BEGIN:VEVENT
DTEND:20070518T230000Z
UID:69e566f254cfe
DTSTAMP:20260420T003618Z
LOCATION:0 
DESCRIPTION:
URL;VALUE=URI:
SUMMARY:33. Willi-Comin-Gedächtnislauf
DTSTART:20070518T230000Z
END:VEVENT
END:VCALENDAR
An internal server error occurred.