BEGIN:VCALENDAR
VERSION:2.0
PRODID:-//hacksw/handcal//NONSGML v1.0//EN
CALSCALE:GREGORIAN
BEGIN:VEVENT
DTEND:20070517T230000Z
UID:69e59b59ca081
DTSTAMP:20260420T041953Z
LOCATION:0 
DESCRIPTION:
URL;VALUE=URI:
SUMMARY:Neuenkirchener Abendlauf
DTSTART:20070517T230000Z
END:VEVENT
END:VCALENDAR
An internal server error occurred.