BEGIN:VCALENDAR
VERSION:2.0
PRODID:-//hacksw/handcal//NONSGML v1.0//EN
CALSCALE:GREGORIAN
BEGIN:VEVENT
DTEND:20070517T230000Z
UID:69e50671b3985
DTSTAMP:20260419T174433Z
LOCATION:0 
DESCRIPTION:
URL;VALUE=URI:
SUMMARY:Burgfest-Lauf 2007
DTSTART:20070517T230000Z
END:VEVENT
END:VCALENDAR
An internal server error occurred.