BEGIN:VCALENDAR
VERSION:2.0
PRODID:-//hacksw/handcal//NONSGML v1.0//EN
CALSCALE:GREGORIAN
BEGIN:VEVENT
DTEND:20070517T230000Z
UID:69e5f1a162dae
DTSTAMP:20260420T102801Z
LOCATION:0 
DESCRIPTION:
URL;VALUE=URI:
SUMMARY:13. Tailfinger Lichtenhofer Straßenlauf
DTSTART:20070517T230000Z
END:VEVENT
END:VCALENDAR
An internal server error occurred.