BEGIN:VCALENDAR
VERSION:2.0
PRODID:-//hacksw/handcal//NONSGML v1.0//EN
CALSCALE:GREGORIAN
BEGIN:VEVENT
DTEND:20070517T230000Z
UID:69e60dd1f3562
DTSTAMP:20260420T122817Z
LOCATION:0 
DESCRIPTION:
URL;VALUE=URI:
SUMMARY:Stadtfestlauf
DTSTART:20070517T230000Z
END:VEVENT
END:VCALENDAR
An internal server error occurred.