BEGIN:VCALENDAR
VERSION:2.0
PRODID:-//hacksw/handcal//NONSGML v1.0//EN
CALSCALE:GREGORIAN
BEGIN:VEVENT
DTEND:20070516T230000Z
UID:69e8122c22c3b
DTSTAMP:20260422T011124Z
LOCATION:0 
DESCRIPTION:
URL;VALUE=URI:
SUMMARY:36. Himmelfahrtslauf Heilshorn
DTSTART:20070516T230000Z
END:VEVENT
END:VCALENDAR
An internal server error occurred.