BEGIN:VCALENDAR
VERSION:2.0
PRODID:-//hacksw/handcal//NONSGML v1.0//EN
CALSCALE:GREGORIAN
BEGIN:VEVENT
DTEND:20070516T230000Z
UID:69e8123124c59
DTSTAMP:20260422T011129Z
LOCATION:0 
DESCRIPTION:
URL;VALUE=URI:
SUMMARY:Senioreneuropameisterschaft über 10 km 
DTSTART:20070516T230000Z
END:VEVENT
END:VCALENDAR
An internal server error occurred.