BEGIN:VCALENDAR
VERSION:2.0
PRODID:-//hacksw/handcal//NONSGML v1.0//EN
CALSCALE:GREGORIAN
BEGIN:VEVENT
DTEND:20070516T230000Z
UID:69e5e23842b15
DTSTAMP:20260420T092216Z
LOCATION:0 
DESCRIPTION:
URL;VALUE=URI:
SUMMARY:2. Römerlauf
DTSTART:20070516T230000Z
END:VEVENT
END:VCALENDAR
An internal server error occurred.