BEGIN:VCALENDAR
VERSION:2.0
PRODID:-//hacksw/handcal//NONSGML v1.0//EN
CALSCALE:GREGORIAN
BEGIN:VEVENT
DTEND:20070516T230000Z
UID:69ebe87a7917f
DTSTAMP:20260424T230234Z
LOCATION:0 
DESCRIPTION:
URL;VALUE=URI:
SUMMARY:05 x 5-5 km Staffellauf- um das Faulenquartier
DTSTART:20070516T230000Z
END:VEVENT
END:VCALENDAR
An internal server error occurred.