BEGIN:VCALENDAR
VERSION:2.0
PRODID:-//hacksw/handcal//NONSGML v1.0//EN
CALSCALE:GREGORIAN
BEGIN:VEVENT
DTEND:20070516T230000Z
UID:69ec0c4bee444
DTSTAMP:20260425T013523Z
LOCATION:0 
DESCRIPTION:
URL;VALUE=URI:
SUMMARY:17 Himmelfahrtslauf- Kinder und Jugendläufe 250m- 800m- 1000m
DTSTART:20070516T230000Z
END:VEVENT
END:VCALENDAR
An internal server error occurred.