BEGIN:VCALENDAR
VERSION:2.0
PRODID:-//hacksw/handcal//NONSGML v1.0//EN
CALSCALE:GREGORIAN
BEGIN:VEVENT
DTEND:20070512T230000Z
UID:69e5bb1ee4acd
DTSTAMP:20260420T063526Z
LOCATION:0 
DESCRIPTION:
URL;VALUE=URI:
SUMMARY:Rund um den Otto-Maigler-See
DTSTART:20070512T230000Z
END:VEVENT
END:VCALENDAR
An internal server error occurred.