BEGIN:VCALENDAR
VERSION:2.0
PRODID:-//hacksw/handcal//NONSGML v1.0//EN
CALSCALE:GREGORIAN
BEGIN:VEVENT
DTEND:20070512T230000Z
UID:69e54fb24d804
DTSTAMP:20260419T225706Z
LOCATION:0 
DESCRIPTION:
URL;VALUE=URI:
SUMMARY:4. Karstadt Marathon
DTSTART:20070512T230000Z
END:VEVENT
END:VCALENDAR
An internal server error occurred.