BEGIN:VCALENDAR
VERSION:2.0
PRODID:-//hacksw/handcal//NONSGML v1.0//EN
CALSCALE:GREGORIAN
BEGIN:VEVENT
DTEND:20070512T230000Z
UID:69ed8aae89804
DTSTAMP:20260426T044654Z
LOCATION:0 
DESCRIPTION:
URL;VALUE=URI:
SUMMARY:9.Bremerhavener Seemeile./ 33. OSC Volkslauf- (1 Seemeile = 1852 m) 
DTSTART:20070512T230000Z
END:VEVENT
END:VCALENDAR
An internal server error occurred.