BEGIN:VCALENDAR
VERSION:2.0
PRODID:-//hacksw/handcal//NONSGML v1.0//EN
CALSCALE:GREGORIAN
BEGIN:VEVENT
DTEND:20070512T230000Z
UID:69e52ae9c4e31
DTSTAMP:20260419T202009Z
LOCATION:0 
DESCRIPTION:
URL;VALUE=URI:
SUMMARY:2. Besigheimer Neis Balance Walking Cup
DTSTART:20070512T230000Z
END:VEVENT
END:VCALENDAR
An internal server error occurred.