BEGIN:VCALENDAR
VERSION:2.0
PRODID:-//hacksw/handcal//NONSGML v1.0//EN
CALSCALE:GREGORIAN
BEGIN:VEVENT
DTEND:20070512T230000Z
UID:69eae96e8ce42
DTSTAMP:20260424T045422Z
LOCATION:0 
DESCRIPTION:
URL;VALUE=URI:
SUMMARY:32. Rüthener Bibertal-VL u. Wandertag- 3. Ruether Bergstadt Marathon
DTSTART:20070512T230000Z
END:VEVENT
END:VCALENDAR
An internal server error occurred.