BEGIN:VCALENDAR
VERSION:2.0
PRODID:-//hacksw/handcal//NONSGML v1.0//EN
CALSCALE:GREGORIAN
BEGIN:VEVENT
DTEND:20070512T230000Z
UID:69ea815a1941b
DTSTAMP:20260423T213018Z
LOCATION:0 
DESCRIPTION:
URL;VALUE=URI:
SUMMARY:23. Crosslauf Rund um die Querfurter Fichten
DTSTART:20070512T230000Z
END:VEVENT
END:VCALENDAR
An internal server error occurred.