BEGIN:VCALENDAR
VERSION:2.0
PRODID:-//hacksw/handcal//NONSGML v1.0//EN
CALSCALE:GREGORIAN
BEGIN:VEVENT
DTEND:20070511T230000Z
UID:69e4f27c15a74
DTSTAMP:20260419T161924Z
LOCATION:0 
DESCRIPTION:
URL;VALUE=URI:
SUMMARY:20. Waiblinger Stadtlauf
DTSTART:20070511T230000Z
END:VEVENT
END:VCALENDAR
An internal server error occurred.