BEGIN:VCALENDAR
VERSION:2.0
PRODID:-//hacksw/handcal//NONSGML v1.0//EN
CALSCALE:GREGORIAN
BEGIN:VEVENT
DTEND:20070511T230000Z
UID:69e5bb1919117
DTSTAMP:20260420T063521Z
LOCATION:0 
DESCRIPTION:
URL;VALUE=URI:
SUMMARY:Freundschaftslauf - kein Wettkampf!-
DTSTART:20070511T230000Z
END:VEVENT
END:VCALENDAR
An internal server error occurred.