BEGIN:VCALENDAR
VERSION:2.0
PRODID:-//hacksw/handcal//NONSGML v1.0//EN
CALSCALE:GREGORIAN
BEGIN:VEVENT
DTEND:20070511T230000Z
UID:69e5318fe5878
DTSTAMP:20260419T204831Z
LOCATION:0 
DESCRIPTION:
URL;VALUE=URI:
SUMMARY:8. Itzehoer Störlauf
DTSTART:20070511T230000Z
END:VEVENT
END:VCALENDAR
An internal server error occurred.