BEGIN:VCALENDAR
VERSION:2.0
PRODID:-//hacksw/handcal//NONSGML v1.0//EN
CALSCALE:GREGORIAN
BEGIN:VEVENT
DTEND:20070511T230000Z
UID:69e5f1a262ff7
DTSTAMP:20260420T102802Z
LOCATION:0 
DESCRIPTION:
URL;VALUE=URI:
SUMMARY:13. Int. Volkslauf mit Walking
DTSTART:20070511T230000Z
END:VEVENT
END:VCALENDAR
An internal server error occurred.