BEGIN:VCALENDAR
VERSION:2.0
PRODID:-//hacksw/handcal//NONSGML v1.0//EN
CALSCALE:GREGORIAN
BEGIN:VEVENT
DTEND:20070511T230000Z
UID:69e4ee0cf126c
DTSTAMP:20260419T160028Z
LOCATION:0 
DESCRIPTION:
URL;VALUE=URI:
SUMMARY:3. Ingelheimer Partnerlauf
DTSTART:20070511T230000Z
END:VEVENT
END:VCALENDAR
An internal server error occurred.