BEGIN:VCALENDAR
VERSION:2.0
PRODID:-//hacksw/handcal//NONSGML v1.0//EN
CALSCALE:GREGORIAN
BEGIN:VEVENT
DTEND:20070510T230000Z
UID:69e54fac34c00
DTSTAMP:20260419T225700Z
LOCATION:0 
DESCRIPTION:
URL;VALUE=URI:
SUMMARY:4. Kirschblütenlauf & 4. REFRATH-tecis-Meile
DTSTART:20070510T230000Z
END:VEVENT
END:VCALENDAR
An internal server error occurred.