BEGIN:VCALENDAR
VERSION:2.0
PRODID:-//hacksw/handcal//NONSGML v1.0//EN
CALSCALE:GREGORIAN
BEGIN:VEVENT
DTEND:20070510T230000Z
UID:69ed74ac382c3
DTSTAMP:20260426T031300Z
LOCATION:0 
DESCRIPTION:
URL;VALUE=URI:
SUMMARY:26. Ostfrieslandlauf von Leer nach Bensersiel 4. Etappe
DTSTART:20070510T230000Z
END:VEVENT
END:VCALENDAR
An internal server error occurred.