BEGIN:VCALENDAR
VERSION:2.0
PRODID:-//hacksw/handcal//NONSGML v1.0//EN
CALSCALE:GREGORIAN
BEGIN:VEVENT
DTEND:20070510T230000Z
UID:69e5066ec4fa4
DTSTAMP:20260419T174430Z
LOCATION:0 
DESCRIPTION:
URL;VALUE=URI:
SUMMARY:12. HypoVereinsbank-Lauf 
DTSTART:20070510T230000Z
END:VEVENT
END:VCALENDAR
An internal server error occurred.