BEGIN:VCALENDAR
VERSION:2.0
PRODID:-//hacksw/handcal//NONSGML v1.0//EN
CALSCALE:GREGORIAN
BEGIN:VEVENT
DTEND:20070510T230000Z
UID:69ec1ae57c34c
DTSTAMP:20260425T023741Z
LOCATION:0 
DESCRIPTION:
URL;VALUE=URI:
SUMMARY:14. Stadtlauf  In Nürtingen läuft was >> Benefizlauf 
DTSTART:20070510T230000Z
END:VEVENT
END:VCALENDAR
An internal server error occurred.