BEGIN:VCALENDAR
VERSION:2.0
PRODID:-//hacksw/handcal//NONSGML v1.0//EN
CALSCALE:GREGORIAN
BEGIN:VEVENT
DTEND:20070510T230000Z
UID:69e9add18768b
DTSTAMP:20260423T062745Z
LOCATION:0 
DESCRIPTION:
URL;VALUE=URI:
SUMMARY:4. Rolfzener Stoppelberg-Lauf
DTSTART:20070510T230000Z
END:VEVENT
END:VCALENDAR
An internal server error occurred.