BEGIN:VCALENDAR
VERSION:2.0
PRODID:-//hacksw/handcal//NONSGML v1.0//EN
CALSCALE:GREGORIAN
BEGIN:VEVENT
DTEND:20070508T230000Z
UID:69e58cf2c05b8
DTSTAMP:20260420T031826Z
LOCATION:0 
DESCRIPTION:
URL;VALUE=URI:
SUMMARY:Marzahner Läufer-Cup (2. Lauf)
DTSTART:20070508T230000Z
END:VEVENT
END:VCALENDAR
An internal server error occurred.