BEGIN:VCALENDAR
VERSION:2.0
PRODID:-//hacksw/handcal//NONSGML v1.0//EN
CALSCALE:GREGORIAN
BEGIN:VEVENT
DTEND:20070508T230000Z
UID:69ed47476de4b
DTSTAMP:20260425T235919Z
LOCATION:0 
DESCRIPTION:
URL;VALUE=URI:
SUMMARY:12. Rechberghäuser Langstreckenlauf mit Cooper-Test für Erwachsene und Schüler
DTSTART:20070508T230000Z
END:VEVENT
END:VCALENDAR
An internal server error occurred.