BEGIN:VCALENDAR
VERSION:2.0
PRODID:-//hacksw/handcal//NONSGML v1.0//EN
CALSCALE:GREGORIAN
BEGIN:VEVENT
DTEND:20070508T230000Z
UID:69e51b9a2aef8
DTSTAMP:20260419T191450Z
LOCATION:0 
DESCRIPTION:
URL;VALUE=URI:
SUMMARY:Bühlauer Stundenlauf
DTSTART:20070508T230000Z
END:VEVENT
END:VCALENDAR
An internal server error occurred.