BEGIN:VCALENDAR
VERSION:2.0
PRODID:-//hacksw/handcal//NONSGML v1.0//EN
CALSCALE:GREGORIAN
BEGIN:VEVENT
DTEND:20070507T230000Z
UID:69ed39295b122
DTSTAMP:20260425T225905Z
LOCATION:0 
DESCRIPTION:
URL;VALUE=URI:
SUMMARY:26. Ostfrieslandlauf von Leer nach Bensersiel 3. Etappe
DTSTART:20070507T230000Z
END:VEVENT
END:VCALENDAR
An internal server error occurred.