BEGIN:VCALENDAR
VERSION:2.0
PRODID:-//hacksw/handcal//NONSGML v1.0//EN
CALSCALE:GREGORIAN
BEGIN:VEVENT
DTEND:20070506T230000Z
UID:69e4d36cb38a8
DTSTAMP:20260419T140652Z
LOCATION:0 
DESCRIPTION:
URL;VALUE=URI:
SUMMARY:RIO Lauf
DTSTART:20070506T230000Z
END:VEVENT
END:VCALENDAR
An internal server error occurred.